Package: qpcrNorm Version: 1.67.0 Command: /home/biocbuild/R/R/bin/R CMD build --keep-empty-dirs --no-resave-data qpcrNorm StartedAt: 2025-07-25 03:00:04 -0000 (Fri, 25 Jul 2025) EndedAt: 2025-07-25 03:00:14 -0000 (Fri, 25 Jul 2025) EllapsedTime: 10.0 seconds RetCode: 0 Status: OK PackageFile: qpcrNorm_1.67.0.tar.gz PackageFileSize: 544.1 KiB