Package: qpcrNorm Version: 1.67.0 Command: F:\biocbuild\bbs-3.22-bioc\R\bin\R.exe CMD INSTALL qpcrNorm StartedAt: 2025-07-20 15:25:30 -0400 (Sun, 20 Jul 2025) EndedAt: 2025-07-20 15:25:44 -0400 (Sun, 20 Jul 2025) EllapsedTime: 14.7 seconds RetCode: 0 Status: OK