Package: qpcrNorm Version: 1.67.0 Command: chmod a+r qpcrNorm -R && F:\biocbuild\bbs-3.22-bioc\R\bin\R.exe CMD build --keep-empty-dirs --no-resave-data qpcrNorm StartedAt: 2025-07-20 21:21:06 -0400 (Sun, 20 Jul 2025) EndedAt: 2025-07-20 21:21:25 -0400 (Sun, 20 Jul 2025) EllapsedTime: 19.0 seconds RetCode: 0 Status: OK PackageFile: qpcrNorm_1.67.0.tar.gz PackageFileSize: 476.5 KiB