Package: qpcrNorm Version: 1.67.0 Command: rm -rf qpcrNorm.buildbin-libdir && mkdir qpcrNorm.buildbin-libdir && F:\biocbuild\bbs-3.22-bioc\R\bin\R.exe CMD INSTALL --build --library=qpcrNorm.buildbin-libdir qpcrNorm_1.67.0.tar.gz StartedAt: 2025-07-21 09:46:10 -0400 (Mon, 21 Jul 2025) EndedAt: 2025-07-21 09:46:20 -0400 (Mon, 21 Jul 2025) EllapsedTime: 10.0 seconds RetCode: 0 Status: OK PackageFile: qpcrNorm_1.67.0.zip PackageFileSize: 530.3 KiB