Package: qmtools Version: 1.13.0 Command: rm -rf qmtools.buildbin-libdir && mkdir qmtools.buildbin-libdir && F:\biocbuild\bbs-3.22-bioc\R\bin\R.exe CMD INSTALL --build --library=qmtools.buildbin-libdir qmtools_1.13.0.tar.gz StartedAt: 2025-08-15 11:01:18 -0400 (Fri, 15 Aug 2025) EndedAt: 2025-08-15 11:01:59 -0400 (Fri, 15 Aug 2025) EllapsedTime: 40.2 seconds RetCode: 0 Status: OK PackageFile: qmtools_1.13.0.zip PackageFileSize: 846.9 KiB