Package: qcmetrics Version: 1.47.0 Command: F:\biocbuild\bbs-3.22-bioc\R\bin\R.exe CMD check --no-multiarch --install=check:qcmetrics.install-out.txt --library=F:\biocbuild\bbs-3.22-bioc\R\library --no-vignettes --timings qcmetrics_1.47.0.tar.gz StartedAt: 2025-07-03 05:30:10 -0400 (Thu, 03 Jul 2025) EndedAt: 2025-07-03 05:31:52 -0400 (Thu, 03 Jul 2025) EllapsedTime: 101.3 seconds RetCode: 0 Status: OK CheckDir: qcmetrics.Rcheck Warnings: 0