Package: qckitfastq Version: 1.25.0 Command: /home/biocbuild/R/R/bin/R CMD INSTALL qckitfastq StartedAt: 2025-06-26 21:29:58 -0000 (Thu, 26 Jun 2025) EndedAt: 2025-06-26 21:29:58 -0000 (Thu, 26 Jun 2025) EllapsedTime: 0.2 seconds RetCode: 1 Status: ERROR