Package: qckitfastq Version: 1.25.0 Command: /home/biocbuild/R/R/bin/R CMD build --keep-empty-dirs --no-resave-data qckitfastq StartedAt: 2025-06-27 01:50:15 -0000 (Fri, 27 Jun 2025) EndedAt: 2025-06-27 01:50:16 -0000 (Fri, 27 Jun 2025) EllapsedTime: 1.0 seconds RetCode: 1 Status: ERROR PackageFile: None PackageFileSize: NA