Package: qPLEXanalyzer Version: 1.27.0 Command: F:\biocbuild\bbs-3.22-bioc\R\bin\R.exe CMD INSTALL qPLEXanalyzer StartedAt: 2025-07-07 16:12:03 -0400 (Mon, 07 Jul 2025) EndedAt: 2025-07-07 16:13:16 -0400 (Mon, 07 Jul 2025) EllapsedTime: 72.8 seconds RetCode: 0 Status: OK