Package: qPLEXanalyzer Version: 1.27.0 Command: rm -rf qPLEXanalyzer.buildbin-libdir && mkdir qPLEXanalyzer.buildbin-libdir && F:\biocbuild\bbs-3.22-bioc\R\bin\R.exe CMD INSTALL --build --library=qPLEXanalyzer.buildbin-libdir qPLEXanalyzer_1.27.0.tar.gz StartedAt: 2025-07-08 09:39:01 -0400 (Tue, 08 Jul 2025) EndedAt: 2025-07-08 09:40:32 -0400 (Tue, 08 Jul 2025) EllapsedTime: 90.4 seconds RetCode: 0 Status: OK PackageFile: qPLEXanalyzer_1.27.0.zip PackageFileSize: 3.154 MiB