Package: pvca Version: 1.49.0 Command: F:\biocbuild\bbs-3.22-bioc\R\bin\R.exe CMD INSTALL pvca StartedAt: 2025-07-20 15:33:00 -0400 (Sun, 20 Jul 2025) EndedAt: 2025-07-20 15:33:13 -0400 (Sun, 20 Jul 2025) EllapsedTime: 12.7 seconds RetCode: 0 Status: OK