Package: pvca Version: 1.49.0 Command: rm -rf pvca.buildbin-libdir && mkdir pvca.buildbin-libdir && F:\biocbuild\bbs-3.22-bioc\R\bin\R.exe CMD INSTALL --build --library=pvca.buildbin-libdir pvca_1.49.0.tar.gz StartedAt: 2025-07-21 09:45:45 -0400 (Mon, 21 Jul 2025) EndedAt: 2025-07-21 09:45:58 -0400 (Mon, 21 Jul 2025) EllapsedTime: 13.7 seconds RetCode: 0 Status: OK PackageFile: pvca_1.49.0.zip PackageFileSize: 118.8 KiB