Package: pvac Version: 1.57.0 Command: /Library/Frameworks/R.framework/Resources/bin/R CMD check --install=check:pvac.install-out.txt --library=/Library/Frameworks/R.framework/Resources/library --no-vignettes --timings pvac_1.57.0.tar.gz StartedAt: 2025-07-11 22:51:38 -0400 (Fri, 11 Jul 2025) EndedAt: 2025-07-11 22:52:27 -0400 (Fri, 11 Jul 2025) EllapsedTime: 48.2 seconds RetCode: 0 Status: OK CheckDir: pvac.Rcheck Warnings: 0