Package: pvac Version: 1.57.0 Command: /Library/Frameworks/R.framework/Resources/bin/R CMD check --install=check:pvac.install-out.txt --library=/Library/Frameworks/R.framework/Resources/library --no-vignettes --timings pvac_1.57.0.tar.gz StartedAt: 2025-10-10 21:09:57 -0400 (Fri, 10 Oct 2025) EndedAt: 2025-10-10 21:10:15 -0400 (Fri, 10 Oct 2025) EllapsedTime: 18.2 seconds RetCode: 0 Status: OK CheckDir: pvac.Rcheck Warnings: 0