Package: pvac Version: 1.57.0 Command: /Library/Frameworks/R.framework/Resources/bin/R CMD build --keep-empty-dirs --no-resave-data pvac StartedAt: 2025-10-08 17:30:37 -0400 (Wed, 08 Oct 2025) EndedAt: 2025-10-08 17:30:55 -0400 (Wed, 08 Oct 2025) EllapsedTime: 17.2 seconds RetCode: 0 Status: OK PackageFile: pvac_1.57.0.tar.gz PackageFileSize: 258.3 KiB