Package: puma Version: 3.51.0 Command: /Library/Frameworks/R.framework/Resources/bin/R CMD INSTALL puma StartedAt: 2025-07-11 15:13:07 -0400 (Fri, 11 Jul 2025) EndedAt: 2025-07-11 15:13:23 -0400 (Fri, 11 Jul 2025) EllapsedTime: 16.3 seconds RetCode: 0 Status: OK