Package: puma Version: 3.51.0 Command: /Library/Frameworks/R.framework/Resources/bin/R CMD check --install=check:puma.install-out.txt --library=/Library/Frameworks/R.framework/Resources/library --no-vignettes --timings puma_3.51.0.tar.gz StartedAt: 2025-07-11 20:50:49 -0400 (Fri, 11 Jul 2025) EndedAt: 2025-07-11 20:52:45 -0400 (Fri, 11 Jul 2025) EllapsedTime: 115.4 seconds RetCode: 0 Status: WARNINGS CheckDir: puma.Rcheck Warnings: 1