Package: puma Version: 3.51.0 Command: rm -rf puma.buildbin-libdir && mkdir puma.buildbin-libdir && /Users/biocbuild/BBS/utils/build-universal.sh puma_3.51.0.tar.gz /Library/Frameworks/R.framework/Resources/bin/R puma.buildbin-libdir StartedAt: 2025-07-11 22:31:05 -0400 (Fri, 11 Jul 2025) EndedAt: 2025-07-11 22:31:23 -0400 (Fri, 11 Jul 2025) EllapsedTime: 18.4 seconds RetCode: 0 Status: OK PackageFile: puma_3.51.0.tgz PackageFileSize: 4.079 MiB