Package: ptairMS Version: 1.17.0 Command: /home/biocbuild/R/R/bin/R CMD check --install=check:ptairMS.install-out.txt --library=/home/biocbuild/R/R/site-library --no-vignettes --timings ptairMS_1.17.0.tar.gz StartedAt: 2025-07-18 10:06:40 -0000 (Fri, 18 Jul 2025) EndedAt: 2025-07-18 10:18:19 -0000 (Fri, 18 Jul 2025) EllapsedTime: 699.7 seconds RetCode: 0 Status: WARNINGS CheckDir: ptairMS.Rcheck Warnings: 2