Package: ptairMS Version: 1.17.0 Command: F:\biocbuild\bbs-3.22-bioc\R\bin\R.exe CMD INSTALL ptairMS StartedAt: 2025-07-22 17:02:49 -0400 (Tue, 22 Jul 2025) EndedAt: 2025-07-22 17:03:47 -0400 (Tue, 22 Jul 2025) EllapsedTime: 57.9 seconds RetCode: 0 Status: OK