Package: ptairMS Version: 1.17.0 Command: /Library/Frameworks/R.framework/Resources/bin/R CMD INSTALL ptairMS StartedAt: 2025-10-07 15:36:19 -0400 (Tue, 07 Oct 2025) EndedAt: 2025-10-07 15:36:48 -0400 (Tue, 07 Oct 2025) EllapsedTime: 28.3 seconds RetCode: 0 Status: OK