Package: ptairMS Version: 1.17.0 Command: /Library/Frameworks/R.framework/Resources/bin/R CMD build --keep-empty-dirs --no-resave-data ptairMS StartedAt: 2025-10-07 18:37:41 -0400 (Tue, 07 Oct 2025) EndedAt: 2025-10-07 18:41:25 -0400 (Tue, 07 Oct 2025) EllapsedTime: 224.4 seconds RetCode: 0 Status: OK PackageFile: ptairMS_1.17.0.tar.gz PackageFileSize: 3.358 MiB