Package: ptairMS Version: 1.17.0 Command: /Library/Frameworks/R.framework/Resources/bin/R CMD INSTALL ptairMS StartedAt: 2025-07-21 15:19:32 -0400 (Mon, 21 Jul 2025) EndedAt: 2025-07-21 15:19:39 -0400 (Mon, 21 Jul 2025) EllapsedTime: 7.3 seconds RetCode: 0 Status: OK