Package: ptairMS Version: 1.17.0 Command: /Library/Frameworks/R.framework/Resources/bin/R CMD check --install=check:ptairMS.install-out.txt --library=/Library/Frameworks/R.framework/Resources/library --no-vignettes --timings ptairMS_1.17.0.tar.gz StartedAt: 2025-07-21 20:55:09 -0400 (Mon, 21 Jul 2025) EndedAt: 2025-07-21 20:58:25 -0400 (Mon, 21 Jul 2025) EllapsedTime: 196.4 seconds RetCode: 0 Status: WARNINGS CheckDir: ptairMS.Rcheck Warnings: 2