Package: ptairMS Version: 1.17.0 Command: /Library/Frameworks/R.framework/Resources/bin/R CMD build --keep-empty-dirs --no-resave-data ptairMS StartedAt: 2025-07-21 17:15:53 -0400 (Mon, 21 Jul 2025) EndedAt: 2025-07-21 17:17:03 -0400 (Mon, 21 Jul 2025) EllapsedTime: 69.8 seconds RetCode: 0 Status: OK PackageFile: ptairMS_1.17.0.tar.gz PackageFileSize: 3.355 MiB