Package: ptairMS Version: 1.17.0 Command: rm -rf ptairMS.buildbin-libdir && mkdir ptairMS.buildbin-libdir && /Users/biocbuild/BBS/utils/build-universal.sh ptairMS_1.17.0.tar.gz /Library/Frameworks/R.framework/Resources/bin/R ptairMS.buildbin-libdir StartedAt: 2025-07-21 22:36:40 -0400 (Mon, 21 Jul 2025) EndedAt: 2025-07-21 22:36:50 -0400 (Mon, 21 Jul 2025) EllapsedTime: 9.2 seconds RetCode: 0 Status: OK PackageFile: ptairMS_1.17.0.tgz PackageFileSize: 3.434 MiB