Package: psichomics Version: 1.35.0 Command: F:\biocbuild\bbs-3.22-bioc\R\bin\R.exe CMD INSTALL psichomics StartedAt: 2025-07-22 16:32:17 -0400 (Tue, 22 Jul 2025) EndedAt: 2025-07-22 16:36:44 -0400 (Tue, 22 Jul 2025) EllapsedTime: 266.9 seconds RetCode: 0 Status: OK