Package: psichomics Version: 1.35.0 Command: chmod a+r psichomics -R && F:\biocbuild\bbs-3.22-bioc\R\bin\R.exe CMD build --keep-empty-dirs --no-resave-data psichomics StartedAt: 2025-07-22 21:22:34 -0400 (Tue, 22 Jul 2025) EndedAt: 2025-07-22 21:26:43 -0400 (Tue, 22 Jul 2025) EllapsedTime: 249.1 seconds RetCode: 0 Status: OK PackageFile: psichomics_1.35.0.tar.gz PackageFileSize: 6.042 MiB