Package: psichomics Version: 1.35.0 Command: rm -rf psichomics.buildbin-libdir && mkdir psichomics.buildbin-libdir && F:\biocbuild\bbs-3.22-bioc\R\bin\R.exe CMD INSTALL --build --library=psichomics.buildbin-libdir psichomics_1.35.0.tar.gz StartedAt: 2025-07-23 09:50:52 -0400 (Wed, 23 Jul 2025) EndedAt: 2025-07-23 09:56:48 -0400 (Wed, 23 Jul 2025) EllapsedTime: 356.6 seconds RetCode: 0 Status: OK PackageFile: psichomics_1.35.0.zip PackageFileSize: 4.972 MiB