Package: proteinProfiles Version: 1.49.0 Command: /Library/Frameworks/R.framework/Resources/bin/R CMD build --keep-empty-dirs --no-resave-data proteinProfiles StartedAt: 2025-10-03 17:23:23 -0400 (Fri, 03 Oct 2025) EndedAt: 2025-10-03 17:23:30 -0400 (Fri, 03 Oct 2025) EllapsedTime: 7.1 seconds RetCode: 0 Status: OK PackageFile: proteinProfiles_1.49.0.tar.gz PackageFileSize: 384.5 KiB