Package: proteinProfiles Version: 1.49.0 Command: rm -rf proteinProfiles.buildbin-libdir && mkdir proteinProfiles.buildbin-libdir && /Users/biocbuild/BBS/utils/build-universal.sh proteinProfiles_1.49.0.tar.gz /Library/Frameworks/R.framework/Resources/bin/R proteinProfiles.buildbin-libdir StartedAt: 2025-10-03 22:50:59 -0400 (Fri, 03 Oct 2025) EndedAt: 2025-10-03 22:51:01 -0400 (Fri, 03 Oct 2025) EllapsedTime: 2.0 seconds RetCode: 0 Status: OK PackageFile: proteinProfiles_1.49.0.tgz PackageFileSize: 403.6 KiB