Package: projectR Version: 1.25.0 Command: chmod a+r projectR -R && F:\biocbuild\bbs-3.22-bioc\R\bin\R.exe CMD build --keep-empty-dirs --no-resave-data projectR StartedAt: 2025-07-11 21:17:52 -0400 (Fri, 11 Jul 2025) EndedAt: 2025-07-11 21:21:14 -0400 (Fri, 11 Jul 2025) EllapsedTime: 201.6 seconds RetCode: 0 Status: OK PackageFile: projectR_1.25.0.tar.gz PackageFileSize: 5.15 MiB