Package: projectR Version: 1.25.0 Command: rm -rf projectR.buildbin-libdir && mkdir projectR.buildbin-libdir && F:\biocbuild\bbs-3.22-bioc\R\bin\R.exe CMD INSTALL --build --library=projectR.buildbin-libdir projectR_1.25.0.tar.gz StartedAt: 2025-07-12 09:33:14 -0400 (Sat, 12 Jul 2025) EndedAt: 2025-07-12 09:34:10 -0400 (Sat, 12 Jul 2025) EllapsedTime: 55.8 seconds RetCode: 0 Status: OK PackageFile: projectR_1.25.0.zip PackageFileSize: 6.616 MiB