Package: progeny Version: 1.31.0 Command: /home/biocbuild/R/R/bin/R CMD INSTALL progeny StartedAt: 2025-07-24 21:12:48 -0000 (Thu, 24 Jul 2025) EndedAt: 2025-07-24 21:13:00 -0000 (Thu, 24 Jul 2025) EllapsedTime: 12.6 seconds RetCode: 0 Status: OK