Package: progeny Version: 1.31.0 Command: F:\biocbuild\bbs-3.22-bioc\R\bin\R.exe CMD INSTALL progeny StartedAt: 2025-07-24 15:46:06 -0400 (Thu, 24 Jul 2025) EndedAt: 2025-07-24 15:46:23 -0400 (Thu, 24 Jul 2025) EllapsedTime: 17.4 seconds RetCode: 0 Status: OK