Package: progeny Version: 1.31.0 Command: /Library/Frameworks/R.framework/Resources/bin/R CMD INSTALL progeny StartedAt: 2025-07-14 15:22:51 -0400 (Mon, 14 Jul 2025) EndedAt: 2025-07-14 15:23:07 -0400 (Mon, 14 Jul 2025) EllapsedTime: 16.1 seconds RetCode: 0 Status: OK