Package: progeny Version: 1.31.0 Command: /Library/Frameworks/R.framework/Resources/bin/R CMD build --keep-empty-dirs --no-resave-data progeny StartedAt: 2025-07-14 18:07:25 -0400 (Mon, 14 Jul 2025) EndedAt: 2025-07-14 18:07:43 -0400 (Mon, 14 Jul 2025) EllapsedTime: 18.3 seconds RetCode: 0 Status: OK PackageFile: progeny_1.31.0.tar.gz PackageFileSize: 10.15 MiB