Package: progeny Version: 1.31.0 Command: rm -rf progeny.buildbin-libdir && mkdir progeny.buildbin-libdir && /Users/biocbuild/BBS/utils/build-universal.sh progeny_1.31.0.tar.gz /Library/Frameworks/R.framework/Resources/bin/R progeny.buildbin-libdir StartedAt: 2025-07-16 01:18:30 -0400 (Wed, 16 Jul 2025) EndedAt: 2025-07-16 01:18:45 -0400 (Wed, 16 Jul 2025) EllapsedTime: 14.9 seconds RetCode: 0 Status: OK PackageFile: progeny_1.31.0.tgz PackageFileSize: 8.948 MiB