Package: profileplyr Version: 1.25.0 Command: /home/biocbuild/R/R/bin/R CMD INSTALL profileplyr StartedAt: 2025-07-10 22:15:42 -0000 (Thu, 10 Jul 2025) EndedAt: 2025-07-10 22:16:55 -0000 (Thu, 10 Jul 2025) EllapsedTime: 73.1 seconds RetCode: 0 Status: OK