Package: profileplyr Version: 1.25.0 Command: F:\biocbuild\bbs-3.22-bioc\R\bin\R.exe CMD INSTALL profileplyr StartedAt: 2025-07-20 16:41:21 -0400 (Sun, 20 Jul 2025) EndedAt: 2025-07-20 16:42:44 -0400 (Sun, 20 Jul 2025) EllapsedTime: 83.3 seconds RetCode: 0 Status: OK