Package: profileplyr Version: 1.25.0 Command: F:\biocbuild\bbs-3.22-bioc\R\bin\R.exe CMD check --no-multiarch --install=check:profileplyr.install-out.txt --library=F:\biocbuild\bbs-3.22-bioc\R\library --no-vignettes --timings profileplyr_1.25.0.tar.gz StartedAt: 2025-07-21 05:23:50 -0400 (Mon, 21 Jul 2025) EndedAt: 2025-07-21 05:32:28 -0400 (Mon, 21 Jul 2025) EllapsedTime: 518.0 seconds RetCode: 0 Status: OK CheckDir: profileplyr.Rcheck Warnings: 0