Package: profileplyr Version: 1.25.0 Command: chmod a+r profileplyr -R && F:\biocbuild\bbs-3.22-bioc\R\bin\R.exe CMD build --keep-empty-dirs --no-resave-data profileplyr StartedAt: 2025-07-20 21:17:36 -0400 (Sun, 20 Jul 2025) EndedAt: 2025-07-20 21:20:50 -0400 (Sun, 20 Jul 2025) EllapsedTime: 193.8 seconds RetCode: 0 Status: OK PackageFile: profileplyr_1.25.0.tar.gz PackageFileSize: 2.291 MiB