Package: profileplyr Version: 1.25.0 Command: /Library/Frameworks/R.framework/Resources/bin/R CMD INSTALL profileplyr StartedAt: 2025-07-07 15:30:21 -0400 (Mon, 07 Jul 2025) EndedAt: 2025-07-07 15:30:43 -0400 (Mon, 07 Jul 2025) EllapsedTime: 22.5 seconds RetCode: 0 Status: OK