Package: profileplyr Version: 1.25.0 Command: rm -rf profileplyr.buildbin-libdir && mkdir profileplyr.buildbin-libdir && /Users/biocbuild/BBS/utils/build-universal.sh profileplyr_1.25.0.tar.gz /Library/Frameworks/R.framework/Resources/bin/R profileplyr.buildbin-libdir StartedAt: 2025-07-07 22:27:38 -0400 (Mon, 07 Jul 2025) EndedAt: 2025-07-07 22:28:03 -0400 (Mon, 07 Jul 2025) EllapsedTime: 24.5 seconds RetCode: 0 Status: OK PackageFile: profileplyr_1.25.0.tgz PackageFileSize: 2.551 MiB