Package: procoil Version: 2.37.0 Command: /home/biocbuild/R/R/bin/R CMD INSTALL procoil StartedAt: 2025-07-14 20:31:19 -0000 (Mon, 14 Jul 2025) EndedAt: 2025-07-14 20:31:54 -0000 (Mon, 14 Jul 2025) EllapsedTime: 35.2 seconds RetCode: 0 Status: OK