Package: procoil Version: 2.37.0 Command: /home/biocbuild/R/R/bin/R CMD check --install=check:procoil.install-out.txt --library=/home/biocbuild/R/R/site-library --no-vignettes --timings procoil_2.37.0.tar.gz StartedAt: 2025-07-15 10:41:54 -0000 (Tue, 15 Jul 2025) EndedAt: 2025-07-15 10:44:21 -0000 (Tue, 15 Jul 2025) EllapsedTime: 147.1 seconds RetCode: 0 Status: OK CheckDir: procoil.Rcheck Warnings: 0