Package: procoil Version: 2.37.0 Command: F:\biocbuild\bbs-3.22-bioc\R\bin\R.exe CMD check --no-multiarch --install=check:procoil.install-out.txt --library=F:\biocbuild\bbs-3.22-bioc\R\library --no-vignettes --timings procoil_2.37.0.tar.gz StartedAt: 2025-08-15 06:35:44 -0400 (Fri, 15 Aug 2025) EndedAt: 2025-08-15 06:38:06 -0400 (Fri, 15 Aug 2025) EllapsedTime: 142.9 seconds RetCode: 0 Status: OK CheckDir: procoil.Rcheck Warnings: 0