Package: procoil Version: 2.37.0 Command: rm -rf procoil.buildbin-libdir && mkdir procoil.buildbin-libdir && F:\biocbuild\bbs-3.22-bioc\R\bin\R.exe CMD INSTALL --build --library=procoil.buildbin-libdir procoil_2.37.0.tar.gz StartedAt: 2025-08-15 10:59:39 -0400 (Fri, 15 Aug 2025) EndedAt: 2025-08-15 11:00:15 -0400 (Fri, 15 Aug 2025) EllapsedTime: 35.6 seconds RetCode: 0 Status: OK PackageFile: procoil_2.37.0.zip PackageFileSize: 1.554 MiB