Package: procoil Version: 2.37.0 Command: /Library/Frameworks/R.framework/Resources/bin/R CMD check --install=check:procoil.install-out.txt --library=/Library/Frameworks/R.framework/Resources/library --no-vignettes --timings procoil_2.37.0.tar.gz StartedAt: 2025-07-11 22:48:27 -0400 (Fri, 11 Jul 2025) EndedAt: 2025-07-11 22:50:41 -0400 (Fri, 11 Jul 2025) EllapsedTime: 134.1 seconds RetCode: 0 Status: OK CheckDir: procoil.Rcheck Warnings: 0