Package: procoil Version: 2.37.0 Command: /Library/Frameworks/R.framework/Resources/bin/R CMD INSTALL procoil StartedAt: 2025-07-04 15:08:46 -0400 (Fri, 04 Jul 2025) EndedAt: 2025-07-04 15:08:56 -0400 (Fri, 04 Jul 2025) EllapsedTime: 10.2 seconds RetCode: 0 Status: OK